BEGIN:VCALENDAR
VERSION:2.0
PRODID:-//The Sickle Cell Foundation of Tennessee - ECPv6.15.20//NONSGML v1.0//EN
CALSCALE:GREGORIAN
METHOD:PUBLISH
X-WR-CALNAME:The Sickle Cell Foundation of Tennessee
X-ORIGINAL-URL:https://www.sicklecelltn.org
X-WR-CALDESC:Events for The Sickle Cell Foundation of Tennessee
REFRESH-INTERVAL;VALUE=DURATION:PT1H
X-Robots-Tag:noindex
X-PUBLISHED-TTL:PT1H
BEGIN:VTIMEZONE
TZID:America/Chicago
BEGIN:DAYLIGHT
TZOFFSETFROM:-0600
TZOFFSETTO:-0500
TZNAME:CDT
DTSTART:20250309T080000
END:DAYLIGHT
BEGIN:STANDARD
TZOFFSETFROM:-0500
TZOFFSETTO:-0600
TZNAME:CST
DTSTART:20251102T070000
END:STANDARD
BEGIN:DAYLIGHT
TZOFFSETFROM:-0600
TZOFFSETTO:-0500
TZNAME:CDT
DTSTART:20260308T080000
END:DAYLIGHT
BEGIN:STANDARD
TZOFFSETFROM:-0500
TZOFFSETTO:-0600
TZNAME:CST
DTSTART:20261101T070000
END:STANDARD
BEGIN:DAYLIGHT
TZOFFSETFROM:-0600
TZOFFSETTO:-0500
TZNAME:CDT
DTSTART:20270314T080000
END:DAYLIGHT
BEGIN:STANDARD
TZOFFSETFROM:-0500
TZOFFSETTO:-0600
TZNAME:CST
DTSTART:20271107T070000
END:STANDARD
END:VTIMEZONE
BEGIN:VEVENT
DTSTART;TZID=America/Chicago:20260919T063000
DTEND;TZID=America/Chicago:20260919T120000
DTSTAMP:20260423T141100
CREATED:20260225T185154Z
LAST-MODIFIED:20260225T185154Z
UID:8152-1789799400-1789819200@www.sicklecelltn.org
SUMMARY:18th Annual Mark Walden Memorial 5k Walk/Run
DESCRIPTION:In memory of Mark Walden\, former chief meteorologist at ABC24 in Memphis and an inspiring figure both for his work and his courageous battle with sickle cell disease\, the Sickle Cell Foundation of Tennessee hosts an annual walk/run to honor his legacy. This event raises awareness and provides vital support for individuals and families affected by Sickle Cell Disease. \nThe 17th Annual Mark Walden Memorial 5k Walk/Run was a huge success. See for yourself\, run it back.
URL:https://www.sicklecelltn.org/event/18th-annual-mark-walden-memorial-5k-walk-run/
LOCATION:Sea Isle Park\, 1264 Wellsville Rd\, Memphis\, TN\, 38117-5942\, United States
ATTACH;FMTTYPE=image/jpeg:https://www.sicklecelltn.org/wp-content/uploads/2026/02/Copy-of-IMG_3477.jpg
END:VEVENT
END:VCALENDAR