BEGIN:VCALENDAR
VERSION:2.0
PRODID:-//The Sickle Cell Foundation of Tennessee - ECPv6.15.20//NONSGML v1.0//EN
CALSCALE:GREGORIAN
METHOD:PUBLISH
X-ORIGINAL-URL:https://www.sicklecelltn.org
X-WR-CALDESC:Events for The Sickle Cell Foundation of Tennessee
REFRESH-INTERVAL;VALUE=DURATION:PT1H
X-Robots-Tag:noindex
X-PUBLISHED-TTL:PT1H
BEGIN:VTIMEZONE
TZID:America/Chicago
BEGIN:DAYLIGHT
TZOFFSETFROM:-0600
TZOFFSETTO:-0500
TZNAME:CDT
DTSTART:20240310T080000
END:DAYLIGHT
BEGIN:STANDARD
TZOFFSETFROM:-0500
TZOFFSETTO:-0600
TZNAME:CST
DTSTART:20241103T070000
END:STANDARD
BEGIN:DAYLIGHT
TZOFFSETFROM:-0600
TZOFFSETTO:-0500
TZNAME:CDT
DTSTART:20250309T080000
END:DAYLIGHT
BEGIN:STANDARD
TZOFFSETFROM:-0500
TZOFFSETTO:-0600
TZNAME:CST
DTSTART:20251102T070000
END:STANDARD
BEGIN:DAYLIGHT
TZOFFSETFROM:-0600
TZOFFSETTO:-0500
TZNAME:CDT
DTSTART:20260308T080000
END:DAYLIGHT
BEGIN:STANDARD
TZOFFSETFROM:-0500
TZOFFSETTO:-0600
TZNAME:CST
DTSTART:20261101T070000
END:STANDARD
END:VTIMEZONE
BEGIN:VEVENT
DTSTART;TZID=America/Chicago:20250916T080000
DTEND;TZID=America/Chicago:20250916T130000
DTSTAMP:20260423T180720
CREATED:20250812T143146Z
LAST-MODIFIED:20250905T170402Z
UID:8029-1758009600-1758027600@www.sicklecelltn.org
SUMMARY:Sickle Cell Awareness Day
DESCRIPTION:Click here to learn more about this event!
URL:https://www.sicklecelltn.org/event/sickle-cell-awareness-day/
LOCATION:University Center Atrium\, University of Memphis
ATTACH;FMTTYPE=image/png:https://www.sicklecelltn.org/wp-content/uploads/2025/09/SickleCellDayFlyer-e1757088212151.png
END:VEVENT
BEGIN:VEVENT
DTSTART;TZID=America/Chicago:20250920T063000
DTEND;TZID=America/Chicago:20250920T110000
DTSTAMP:20260423T180720
CREATED:20250508T202147Z
LAST-MODIFIED:20250806T221430Z
UID:7861-1758349800-1758366000@www.sicklecelltn.org
SUMMARY:Mark Walden 5k Walk/Run
DESCRIPTION:Click here to learn more about this event!
URL:https://www.sicklecelltn.org/event/mark-walden-5k-walk-run/
ATTACH;FMTTYPE=image/jpeg:https://www.sicklecelltn.org/wp-content/uploads/2024/01/hooray.jpg
END:VEVENT
END:VCALENDAR