BEGIN:VCALENDAR
VERSION:2.0
PRODID:-//The Sickle Cell Foundation of Tennessee - ECPv6.15.20//NONSGML v1.0//EN
CALSCALE:GREGORIAN
METHOD:PUBLISH
X-ORIGINAL-URL:https://www.sicklecelltn.org
X-WR-CALDESC:Events for The Sickle Cell Foundation of Tennessee
REFRESH-INTERVAL;VALUE=DURATION:PT1H
X-Robots-Tag:noindex
X-PUBLISHED-TTL:PT1H
BEGIN:VTIMEZONE
TZID:America/Chicago
BEGIN:DAYLIGHT
TZOFFSETFROM:-0600
TZOFFSETTO:-0500
TZNAME:CDT
DTSTART:20240310T080000
END:DAYLIGHT
BEGIN:STANDARD
TZOFFSETFROM:-0500
TZOFFSETTO:-0600
TZNAME:CST
DTSTART:20241103T070000
END:STANDARD
BEGIN:DAYLIGHT
TZOFFSETFROM:-0600
TZOFFSETTO:-0500
TZNAME:CDT
DTSTART:20250309T080000
END:DAYLIGHT
BEGIN:STANDARD
TZOFFSETFROM:-0500
TZOFFSETTO:-0600
TZNAME:CST
DTSTART:20251102T070000
END:STANDARD
BEGIN:DAYLIGHT
TZOFFSETFROM:-0600
TZOFFSETTO:-0500
TZNAME:CDT
DTSTART:20260308T080000
END:DAYLIGHT
BEGIN:STANDARD
TZOFFSETFROM:-0500
TZOFFSETTO:-0600
TZNAME:CST
DTSTART:20261101T070000
END:STANDARD
END:VTIMEZONE
BEGIN:VEVENT
DTSTART;TZID=America/Chicago:20250517T090000
DTEND;TZID=America/Chicago:20250517T120000
DTSTAMP:20260424T001621
CREATED:20250514T163304Z
LAST-MODIFIED:20250514T163345Z
UID:7925-1747472400-1747483200@www.sicklecelltn.org
SUMMARY:Methodist Community Health Fair
DESCRIPTION:Click here to learn more about this event!
URL:https://www.sicklecelltn.org/event/methodist-community-health-fair/
ATTACH;FMTTYPE=image/jpeg:https://www.sicklecelltn.org/wp-content/uploads/2025/05/01192102-Sickle-Cell-Health-Fair-Flyer-25-Digital-FINAL-002-e1747236776609.jpg
END:VEVENT
END:VCALENDAR