BEGIN:VCALENDAR
VERSION:2.0
PRODID:-//The Sickle Cell Foundation of Tennessee - ECPv6.15.20//NONSGML v1.0//EN
CALSCALE:GREGORIAN
METHOD:PUBLISH
X-ORIGINAL-URL:https://www.sicklecelltn.org
X-WR-CALDESC:Events for The Sickle Cell Foundation of Tennessee
REFRESH-INTERVAL;VALUE=DURATION:PT1H
X-Robots-Tag:noindex
X-PUBLISHED-TTL:PT1H
BEGIN:VTIMEZONE
TZID:America/Chicago
BEGIN:DAYLIGHT
TZOFFSETFROM:-0600
TZOFFSETTO:-0500
TZNAME:CDT
DTSTART:20240310T080000
END:DAYLIGHT
BEGIN:STANDARD
TZOFFSETFROM:-0500
TZOFFSETTO:-0600
TZNAME:CST
DTSTART:20241103T070000
END:STANDARD
BEGIN:DAYLIGHT
TZOFFSETFROM:-0600
TZOFFSETTO:-0500
TZNAME:CDT
DTSTART:20250309T080000
END:DAYLIGHT
BEGIN:STANDARD
TZOFFSETFROM:-0500
TZOFFSETTO:-0600
TZNAME:CST
DTSTART:20251102T070000
END:STANDARD
BEGIN:DAYLIGHT
TZOFFSETFROM:-0600
TZOFFSETTO:-0500
TZNAME:CDT
DTSTART:20260308T080000
END:DAYLIGHT
BEGIN:STANDARD
TZOFFSETFROM:-0500
TZOFFSETTO:-0600
TZNAME:CST
DTSTART:20261101T070000
END:STANDARD
END:VTIMEZONE
BEGIN:VEVENT
DTSTART;VALUE=DATE:20250328
DTEND;VALUE=DATE:20250330
DTSTAMP:20260424T030321
CREATED:20250514T162905Z
LAST-MODIFIED:20250514T163417Z
UID:7920-1743202800-1743289199@www.sicklecelltn.org
SUMMARY:Stop the Clot Bus Tour
DESCRIPTION:Click here to learn more about this event!
URL:https://www.sicklecelltn.org/event/stop-the-clot-bus-tour/
ATTACH;FMTTYPE=image/jpeg:https://www.sicklecelltn.org/wp-content/uploads/2025/05/Stop-the-Clot-Advocacy-Event-Flyer-e1747236637244.jpg
END:VEVENT
END:VCALENDAR