BEGIN:VCALENDAR
VERSION:2.0
PRODID:-//The Sickle Cell Foundation of Tennessee - ECPv6.15.20//NONSGML v1.0//EN
CALSCALE:GREGORIAN
METHOD:PUBLISH
X-WR-CALNAME:The Sickle Cell Foundation of Tennessee
X-ORIGINAL-URL:https://www.sicklecelltn.org
X-WR-CALDESC:Events for The Sickle Cell Foundation of Tennessee
REFRESH-INTERVAL;VALUE=DURATION:PT1H
X-Robots-Tag:noindex
X-PUBLISHED-TTL:PT1H
BEGIN:VTIMEZONE
TZID:America/Chicago
BEGIN:DAYLIGHT
TZOFFSETFROM:-0600
TZOFFSETTO:-0500
TZNAME:CDT
DTSTART:20250309T080000
END:DAYLIGHT
BEGIN:STANDARD
TZOFFSETFROM:-0500
TZOFFSETTO:-0600
TZNAME:CST
DTSTART:20251102T070000
END:STANDARD
BEGIN:DAYLIGHT
TZOFFSETFROM:-0600
TZOFFSETTO:-0500
TZNAME:CDT
DTSTART:20260308T080000
END:DAYLIGHT
BEGIN:STANDARD
TZOFFSETFROM:-0500
TZOFFSETTO:-0600
TZNAME:CST
DTSTART:20261101T070000
END:STANDARD
BEGIN:DAYLIGHT
TZOFFSETFROM:-0600
TZOFFSETTO:-0500
TZNAME:CDT
DTSTART:20270314T080000
END:DAYLIGHT
BEGIN:STANDARD
TZOFFSETFROM:-0500
TZOFFSETTO:-0600
TZNAME:CST
DTSTART:20271107T070000
END:STANDARD
END:VTIMEZONE
BEGIN:VEVENT
DTSTART;TZID=America/Chicago:20260411T110000
DTEND;TZID=America/Chicago:20260411T150000
DTSTAMP:20260423T093902
CREATED:20260225T194705Z
LAST-MODIFIED:20260225T194705Z
UID:8163-1775905200-1775919600@www.sicklecelltn.org
SUMMARY:Community Health Fair
DESCRIPTION:Community Health Fair hosted by: Nurse Touch Community Care and Wellness Service (NTCCWS) \nNTCCWS is a nurse-led organization\, which provides mobile wellness outreach\, increases access to preventive screenings\, and delivers evidence-based health education programs targeting individuals at the highest risk for poor health outcomes. The mission of Nurse Touch Community Care and Wellness Services is to advance community and population health by providing accessible health education\, preventive services\, supportive community resources\, and compassionate outreach.  \nJoin their 1st Annual Community Health Fair. Help track attendance by signing in advance here.
URL:https://www.sicklecelltn.org/event/community-health-fair/
LOCATION:LIBERTY IN JESUS MINISTRIES\, 2541 JAMES RD\, Memphis\, TN\, 38127\, United States
ATTACH;FMTTYPE=image/jpeg:https://www.sicklecelltn.org/wp-content/uploads/2026/02/CommunityHealthFair.jpg
END:VEVENT
END:VCALENDAR